BEGIN:VCALENDAR
VERSION:2.0
PRODID:-//Tukios.com/
BEGIN:VEVENT
UID:94f3dfee-90c6-4655-b370-0095651372d5@www.lovefuneralhomes.com
DTSTAMP:20260421T213051Z
DTSTART:20260423T210000Z
DTEND:20260423T213000Z
SUMMARY:Graveside Service
DESCRIPTION:
URL:https://www.lovefuneralhomes.com/obituaries/edna-roberts
LOCATION: Hwy 79  Bennett CO 80136
GEO:39.7558153;-104.4274113
END:VEVENT
END:VCALENDAR