BEGIN:VCALENDAR
VERSION:2.0
PRODID:-//Tukios.com/
BEGIN:VEVENT
UID:802edc24-3b39-420e-9cea-08f0cc5066b8@www.lovefuneralhomes.com
DTSTAMP:20260420T231002Z
DTSTART:20260425T000000Z
DTEND:20260425T010000Z
SUMMARY:Rosary
DESCRIPTION:
URL:https://www.lovefuneralhomes.com/obituaries/helen-troyer
LOCATION: 133 5th St.  Hugo CO 80821
GEO:39.1368504;-103.4732154
END:VEVENT
END:VCALENDAR