BEGIN:VCALENDAR
VERSION:2.0
PRODID:-//Tukios.com/
BEGIN:VEVENT
UID:ee51c9df-da85-4917-879e-254a649e8628@www.lovefuneralhomes.com
DTSTAMP:20260420T231119Z
DTSTART:20260425T160000Z
DTEND:20260425T170000Z
SUMMARY:Mass
DESCRIPTION:
URL:https://www.lovefuneralhomes.com/obituaries/helen-troyer
LOCATION: 133 5th St.  Hugo CO 80821
GEO:39.1368504;-103.4732154
END:VEVENT
END:VCALENDAR