BEGIN:VCALENDAR
VERSION:2.0
PRODID:-//Tukios.com/
BEGIN:VEVENT
UID:2d5818a4-75b6-4760-ba42-59a08d18edb1@www.lovefuneralhomes.com
DTSTAMP:20260420T231052Z
DTSTART:20260425T170000Z
DTEND:20260425T173000Z
SUMMARY:Interment
DESCRIPTION:
URL:https://www.lovefuneralhomes.com/obituaries/helen-troyer
LOCATION: Intersection of US Highway40/287 County Road 31   Hugo CO 80821
GEO:39.1436331;-103.491738
END:VEVENT
END:VCALENDAR